BEGIN:VCALENDAR
VERSION:2.0
PRODID:icalendar-ruby
CALSCALE:GREGORIAN
BEGIN:VEVENT
DTSTAMP:20260425T182049Z
UID:73236c8f-9c99-4d3c-b838-197660840f74
DTSTART;TZID=Pacific/Auckland:20260426T110000
DTEND;TZID=Pacific/Auckland:20260426T114500
DESCRIPTION:Property ID# 606012
SUMMARY:Openhome for 244 Pohutukawa Avenue
END:VEVENT
END:VCALENDAR
