BEGIN:VCALENDAR
VERSION:2.0
PRODID:icalendar-ruby
CALSCALE:GREGORIAN
BEGIN:VEVENT
DTSTAMP:20260421T123308Z
UID:93ab511d-b904-4ef7-a9ef-c9b9a58115ea
DTSTART;VALUE=DATE:20260514
DESCRIPTION:Property ID# 606971\, Locatoin: Harcourts office\, 256 The Stra
 nd\, Whakatane\, Time: 2:00PM
SUMMARY:Auction for 24 Kope Drain Road
END:VEVENT
END:VCALENDAR
