BEGIN:VCALENDAR
VERSION:2.0
PRODID:icalendar-ruby
CALSCALE:GREGORIAN
BEGIN:VEVENT
DTSTAMP:20260423T105209Z
UID:2811a7fb-3f00-4be8-93d1-644624df0871
DTSTART;VALUE=DATE:20260228
DESCRIPTION:Property ID# 602650\, Locatoin: Onsite - unless sold prior\, Ti
 me: 12:00PM
SUMMARY:Auction for 
END:VEVENT
END:VCALENDAR
