BEGIN:VCALENDAR
VERSION:2.0
PRODID:icalendar-ruby
CALSCALE:GREGORIAN
BEGIN:VEVENT
DTSTAMP:20260421T232328Z
UID:9fd33755-b75e-4ed3-b276-9ac1ec4c5713
DTSTART;VALUE=DATE:20211106
DESCRIPTION:Property ID# 519387\, Locatoin: On-Site at 402C Harbour Road\, 
 Ohope\, Time: 12:00PM
SUMMARY:Auction for 
END:VEVENT
END:VCALENDAR
